BEGIN:VCALENDAR
PRODID:PlannerXE123
VERSION:2.0
CALSCALE:GREGORIAN
METHOD:PUBLISH
BEGIN:VEVENT
DTSTART:20260413T080000Z
DTEND:20260416T180000Z
DTSTAMP:20260426T002601Z
UID:(geo.cathms.kr_58990)
CREATED:20260426T002601Z
DESCRIPTION:성모회 봄나들이\n\n<a href="http://geo.cathms.kr/xe/board_MCoP35/58990?iCal=ics_event&document_srl=58990">원본일정</a>
LOCATION:
SEQUENCE:1
STATUS:CONFIRMED
SUMMARY:성모회 봄나들이
TRANSP:TRANSPARENT
END:VEVENT
END:VCALENDAR
