BEGIN:VCALENDAR
PRODID:PlannerXE123
VERSION:2.0
CALSCALE:GREGORIAN
METHOD:PUBLISH
BEGIN:VEVENT
DTSTART:20260424T110000Z
DTEND:20260424T120000Z
DTSTAMP:20260425T101208Z
UID:(geo.cathms.kr_59169)
CREATED:20260425T101208Z
DESCRIPTION:성심대 소풍\n\n<a href="http://geo.cathms.kr/xe/board_MCoP35/59169?iCal=ics_event&document_srl=59169">원본일정</a>
LOCATION:
SEQUENCE:1
STATUS:CONFIRMED
SUMMARY:성심대 소풍
TRANSP:TRANSPARENT
END:VEVENT
END:VCALENDAR
