BEGIN:VCALENDAR
PRODID:PlannerXE123
VERSION:2.0
CALSCALE:GREGORIAN
METHOD:PUBLISH
BEGIN:VEVENT
DTSTART:20260628T103000Z
DTEND:20260628T113000Z
DTSTAMP:20260425T112905Z
UID:(geo.cathms.kr_59189)
CREATED:20260425T112905Z
DESCRIPTION:85주년 본당의날 행사\n\n<a href="http://geo.cathms.kr/xe/board_MCoP35?document_srl=58990&document_srl=59189">원본일정</a>
LOCATION:
SEQUENCE:1
STATUS:CONFIRMED
SUMMARY:85주년 본당의날 행사
TRANSP:TRANSPARENT
END:VEVENT
BEGIN:VEVENT
DTSTART:20260509T090000Z
DTEND:20260509T100000Z
DTSTAMP:20260425T112905Z
UID:(geo.cathms.kr_59171)
CREATED:20260425T112905Z
DESCRIPTION:모니카회 피정 / 해인사 소리길\n\n<a href="http://geo.cathms.kr/xe/board_MCoP35?document_srl=58990&document_srl=59171">원본일정</a>
LOCATION:
SEQUENCE:2
STATUS:CONFIRMED
SUMMARY:모니카회 피정
TRANSP:TRANSPARENT
END:VEVENT
BEGIN:VEVENT
DTSTART:20260507T193000Z
DTEND:20260507T203000Z
DTSTAMP:20260425T112905Z
UID:(geo.cathms.kr_59168)
CREATED:20260425T112905Z
DESCRIPTION:성모의 밤\n\n<a href="http://geo.cathms.kr/xe/board_MCoP35?document_srl=58990&document_srl=59168">원본일정</a>
LOCATION:
SEQUENCE:3
STATUS:CONFIRMED
SUMMARY:성모의 밤
TRANSP:TRANSPARENT
END:VEVENT
BEGIN:VEVENT
DTSTART:20260426T120000Z
DTEND:20260426T130000Z
DTSTAMP:20260425T112905Z
UID:(geo.cathms.kr_59170)
CREATED:20260425T112905Z
DESCRIPTION:재속회\n\n<a href="http://geo.cathms.kr/xe/board_MCoP35?document_srl=58990&document_srl=59170">원본일정</a>
LOCATION:
SEQUENCE:4
STATUS:CONFIRMED
SUMMARY:재속회
TRANSP:TRANSPARENT
END:VEVENT
BEGIN:VEVENT
DTSTART:20260426T120000Z
DTEND:20260426T130000Z
DTSTAMP:20260425T112905Z
UID:(geo.cathms.kr_58927)
CREATED:20260425T112905Z
DESCRIPTION:4월 사목회의\n\n<a href="http://geo.cathms.kr/xe/board_MCoP35?document_srl=58990&document_srl=58927">원본일정</a>
LOCATION:
SEQUENCE:5
STATUS:CONFIRMED
SUMMARY:4월 사목회의
TRANSP:TRANSPARENT
END:VEVENT
BEGIN:VEVENT
DTSTART:20260424T110000Z
DTEND:20260424T120000Z
DTSTAMP:20260425T112905Z
UID:(geo.cathms.kr_59172)
CREATED:20260425T112905Z
DESCRIPTION:연령회\n\n<a href="http://geo.cathms.kr/xe/board_MCoP35?document_srl=58990&document_srl=59172">원본일정</a>
LOCATION:
SEQUENCE:6
STATUS:CONFIRMED
SUMMARY:연령회
TRANSP:TRANSPARENT
END:VEVENT
BEGIN:VEVENT
DTSTART:20260424T110000Z
DTEND:20260424T120000Z
DTSTAMP:20260425T112905Z
UID:(geo.cathms.kr_59169)
CREATED:20260425T112905Z
DESCRIPTION:성심대 소풍\n\n<a href="http://geo.cathms.kr/xe/board_MCoP35?document_srl=58990&document_srl=59169">원본일정</a>
LOCATION:
SEQUENCE:7
STATUS:CONFIRMED
SUMMARY:성심대 소풍
TRANSP:TRANSPARENT
END:VEVENT
BEGIN:VEVENT
DTSTART:20260419T120000Z
DTEND:20260419T130000Z
DTSTAMP:20260425T112905Z
UID:(geo.cathms.kr_58991)
CREATED:20260425T112905Z
DESCRIPTION:베드로회\n\n<a href="http://geo.cathms.kr/xe/board_MCoP35?document_srl=58990&document_srl=58991">원본일정</a>
LOCATION:
SEQUENCE:8
STATUS:CONFIRMED
SUMMARY:베드로회
TRANSP:TRANSPARENT
END:VEVENT
END:VCALENDAR
